BEGIN:VCALENDAR
VERSION:2.0
PRODID:-//Finvi - ECPv6.15.20//NONSGML v1.0//EN
CALSCALE:GREGORIAN
METHOD:PUBLISH
X-WR-CALNAME:Finvi
X-ORIGINAL-URL:https://finvi.com
X-WR-CALDESC:Events for Finvi
REFRESH-INTERVAL;VALUE=DURATION:PT1H
X-Robots-Tag:noindex
X-PUBLISHED-TTL:PT1H
BEGIN:VTIMEZONE
TZID:America/New_York
BEGIN:DAYLIGHT
TZOFFSETFROM:-0500
TZOFFSETTO:-0400
TZNAME:EDT
DTSTART:20250309T070000
END:DAYLIGHT
BEGIN:STANDARD
TZOFFSETFROM:-0400
TZOFFSETTO:-0500
TZNAME:EST
DTSTART:20251102T060000
END:STANDARD
BEGIN:DAYLIGHT
TZOFFSETFROM:-0500
TZOFFSETTO:-0400
TZNAME:EDT
DTSTART:20260308T070000
END:DAYLIGHT
BEGIN:STANDARD
TZOFFSETFROM:-0400
TZOFFSETTO:-0500
TZNAME:EST
DTSTART:20261101T060000
END:STANDARD
BEGIN:DAYLIGHT
TZOFFSETFROM:-0500
TZOFFSETTO:-0400
TZNAME:EDT
DTSTART:20270314T070000
END:DAYLIGHT
BEGIN:STANDARD
TZOFFSETFROM:-0400
TZOFFSETTO:-0500
TZNAME:EST
DTSTART:20271107T060000
END:STANDARD
END:VTIMEZONE
BEGIN:VEVENT
DTSTART;VALUE=DATE:20260604
DTEND;VALUE=DATE:20260606
DTSTAMP:20260423T161037
CREATED:20260423T150959Z
LAST-MODIFIED:20260423T150959Z
UID:9191-1780531200-1780703999@finvi.com
SUMMARY:Associated Collection Agencies Annual Convention 2026
DESCRIPTION:Interested in how Velosidy unifies work\, elevates decisions with embedded intelligence\, enables rapid operational change\, and modernizes operations to future-proof your business? \nThen stop by to see Finvi at the Associated Collection Agencies Annual Convention\, where we’ll present solutions to the challenges agencies face. \nSchedule an in-person meeting at the event in advance! View Event: https://finvi.com/event/associated-collection-agencies-annual-convention-2026/.
URL:https://finvi.com/event/associated-collection-agencies-annual-convention-2026/
LOCATION:DoubleTree Denver Tech Center\, Denver\, CO\, United States
CATEGORIES:ARM
ATTACH;FMTTYPE=image/png:https://finvi.com/wp-content/uploads/2025/01/Denver-1.png
END:VEVENT
END:VCALENDAR